BEGIN:VCALENDAR
VERSION:2.0
PRODID:icalendar-ruby
CALSCALE:GREGORIAN
METHOD:PUBLISH
BEGIN:VEVENT
DTSTAMP:20260422T144644Z
UID:10-1288588@fumer.org
DTSTART:20261018T143000Z
DTEND:20261018T153000Z
CLASS:PUBLIC
CREATED:20260422T084406
DESCRIPTION:
LAST-MODIFIED:20260422T084406
LOCATION:
SUMMARY:Casual Service
URL;VALUE=URI:https://fumer.org/events/casual-service/2026-10-18
ATTACH;FILENAME=DSC_0883.JPG;FMTTYPE=image/jpeg:https://dq5pwpg1q8ru0.cloud
 front.net/2025/10/15/20/11/16/b16f05f1-ee4c-4d4f-96bb-eefd77f2aa64/DSC_088
 3.JPG
END:VEVENT
END:VCALENDAR
