BEGIN:VCALENDAR
VERSION:2.0
PRODID:icalendar-ruby
CALSCALE:GREGORIAN
METHOD:PUBLISH
BEGIN:VEVENT
DTSTAMP:20260422T174504Z
UID:10-1288739@fumer.org
DTSTART:20261101T153000Z
DTEND:20261101T163000Z
CLASS:PUBLIC
CREATED:20260422T113922
DESCRIPTION:
LAST-MODIFIED:20260422T113922
LOCATION:
SUMMARY:Casual Service
URL;VALUE=URI:https://fumer.org/events/casual-service/2026-11-01
ATTACH;FILENAME=DSC_0883.JPG;FMTTYPE=image/jpeg:https://dq5pwpg1q8ru0.cloud
 front.net/2025/10/15/20/11/16/b16f05f1-ee4c-4d4f-96bb-eefd77f2aa64/DSC_088
 3.JPG
END:VEVENT
END:VCALENDAR
